BEGIN:VCALENDAR
PRODID:-//54.85.132.133//NONSGML kigkonsult.se iCalcreator 2.8//
VERSION:2.0
BEGIN:VTIMEZONE
TZID:Europe/London
TZOFFSETFROM:+0000
TZOFFSETTO:-0500
END:VTIMEZONE
BEGIN:VEVENT
UID:20170721T144626CEST-4931UbOFvBa@www.chesapeakebay.net
DTSTAMP:20170721T120726Z
DESCRIPTION:Call-in: 866-299-3188\nCode: 267-5715\nAdobeConnect: https://ep
 awebconferencing.acms.com/git6
DTSTART:20170711T130000
DTEND:20170711T150000
LOCATION:303 Conference Room
SUMMARY:Enhance Partnering\, Leadership and Management GIT Meeting - July 2
 017
END:VEVENT
END:VCALENDAR
