BEGIN:VCALENDAR
PRODID:-//54.175.177.120//NONSGML kigkonsult.se iCalcreator 2.8//
VERSION:2.0
BEGIN:VTIMEZONE
TZID:Europe/London
TZOFFSETFROM:+0000
TZOFFSETTO:-0500
END:VTIMEZONE
BEGIN:VEVENT
UID:20170721T142314CEST-9830B2Uc2Da@www.chesapeakebay.net
DTSTAMP:20170721T120714Z
DESCRIPTION:A federal facilities workgroup conference call\n\n Conference L
 ine: 866-299-3188\n Code: 410-267-5731\n Adobe Connect:https://epawebconfe
 rencing.acms.com/ffwg/
DTSTART:20170711T100000
DTEND:20170711T120000
LOCATION:Conference Call
SUMMARY:Federal Facilities Workgroup Conference Call - July 2017
END:VEVENT
END:VCALENDAR
