BEGIN:VCALENDAR
PRODID:-//54.85.132.133//NONSGML kigkonsult.se iCalcreator 2.8//
VERSION:2.0
BEGIN:VTIMEZONE
TZID:Europe/London
TZOFFSETFROM:+0000
TZOFFSETTO:-0500
END:VTIMEZONE
BEGIN:VEVENT
UID:20170721T143243CEST-5023L0VeOGa@www.chesapeakebay.net
DTSTAMP:20170721T120743Z
DESCRIPTION:Monthly meeting for the Wastewater Treatment Workgroup. Agenda 
 and materials will be posted as they become available. Please contact Mich
 elle Williams (.(JavaScript must be enabled to view this email address)/*=
  0)out += unescape(l[i].replace(/^\s\s*/\, '&#'))\;while (--j >= 0)if (el[
 j].getAttribute('data-eeEncEmail_MVVblYtRpJ'))el[j].innerHTML = out\;/*]]>
 */) with any questions. \n\nConference number: 1-888-702-9706\nRoom number
 : 6254\nParticipant number: 9883
DTSTART:20170711T100000
DTEND:20170711T120000
LOCATION:Other
SUMMARY:Rescheduled: Wastewater Treatment Workgroup Conference Call\, July 
 2017
END:VEVENT
END:VCALENDAR
